BEGIN:VCALENDAR
VERSION:2.0
PRODID:-//Neighbor to Neighbor - ECPv6.15.20//NONSGML v1.0//EN
CALSCALE:GREGORIAN
METHOD:PUBLISH
X-WR-CALNAME:Neighbor to Neighbor
X-ORIGINAL-URL:https://n2ncarolinas.org
X-WR-CALDESC:Events for Neighbor to Neighbor
REFRESH-INTERVAL;VALUE=DURATION:PT1H
X-Robots-Tag:noindex
X-PUBLISHED-TTL:PT1H
BEGIN:VTIMEZONE
TZID:America/New_York
BEGIN:DAYLIGHT
TZOFFSETFROM:-0500
TZOFFSETTO:-0400
TZNAME:EDT
DTSTART:20240310T070000
END:DAYLIGHT
BEGIN:STANDARD
TZOFFSETFROM:-0400
TZOFFSETTO:-0500
TZNAME:EST
DTSTART:20241103T060000
END:STANDARD
BEGIN:DAYLIGHT
TZOFFSETFROM:-0500
TZOFFSETTO:-0400
TZNAME:EDT
DTSTART:20250309T070000
END:DAYLIGHT
BEGIN:STANDARD
TZOFFSETFROM:-0400
TZOFFSETTO:-0500
TZNAME:EST
DTSTART:20251102T060000
END:STANDARD
BEGIN:DAYLIGHT
TZOFFSETFROM:-0500
TZOFFSETTO:-0400
TZNAME:EDT
DTSTART:20260308T070000
END:DAYLIGHT
BEGIN:STANDARD
TZOFFSETFROM:-0400
TZOFFSETTO:-0500
TZNAME:EST
DTSTART:20261101T060000
END:STANDARD
END:VTIMEZONE
BEGIN:VEVENT
DTSTART;TZID=America/New_York:20250315T090000
DTEND;TZID=America/New_York:20250315T120000
DTSTAMP:20260424T043948
CREATED:20250213T162019Z
LAST-MODIFIED:20250213T162019Z
UID:10000159-1742029200-1742040000@n2ncarolinas.org
SUMMARY:Spring Surge
DESCRIPTION:The 2025 Spring Surge: A time for fellowship\, inspiration and learning about a mission making a difference in our community.
URL:https://n2ncarolinas.org/event/spring-surge/
LOCATION:First Presbyterian Church\, 3810 Robert Grissom Parkway\, Myrtle Beach\, South Carolina
CATEGORIES:Upcoming Events
END:VEVENT
END:VCALENDAR