BEGIN:VCALENDAR
VERSION:2.0
PRODID:-//Neighbor to Neighbor - ECPv6.15.20//NONSGML v1.0//EN
CALSCALE:GREGORIAN
METHOD:PUBLISH
X-ORIGINAL-URL:https://n2ncarolinas.org
X-WR-CALDESC:Events for Neighbor to Neighbor
REFRESH-INTERVAL;VALUE=DURATION:PT1H
X-Robots-Tag:noindex
X-PUBLISHED-TTL:PT1H
BEGIN:VTIMEZONE
TZID:America/New_York
BEGIN:DAYLIGHT
TZOFFSETFROM:-0500
TZOFFSETTO:-0400
TZNAME:EDT
DTSTART:20250309T070000
END:DAYLIGHT
BEGIN:STANDARD
TZOFFSETFROM:-0400
TZOFFSETTO:-0500
TZNAME:EST
DTSTART:20251102T060000
END:STANDARD
BEGIN:DAYLIGHT
TZOFFSETFROM:-0500
TZOFFSETTO:-0400
TZNAME:EDT
DTSTART:20260308T070000
END:DAYLIGHT
BEGIN:STANDARD
TZOFFSETFROM:-0400
TZOFFSETTO:-0500
TZNAME:EST
DTSTART:20261101T060000
END:STANDARD
BEGIN:DAYLIGHT
TZOFFSETFROM:-0500
TZOFFSETTO:-0400
TZNAME:EDT
DTSTART:20270314T070000
END:DAYLIGHT
BEGIN:STANDARD
TZOFFSETFROM:-0400
TZOFFSETTO:-0500
TZNAME:EST
DTSTART:20271107T060000
END:STANDARD
END:VTIMEZONE
BEGIN:VEVENT
DTSTART;TZID=America/New_York:20260423T120000
DTEND;TZID=America/New_York:20260423T130000
DTSTAMP:20260422T043912
CREATED:20241126T143821Z
LAST-MODIFIED:20250311T132038Z
UID:10000149-1776945600-1776949200@n2ncarolinas.org
SUMMARY:Volunteer Information Session
DESCRIPTION:Email alissa.wallace@n2ncarolinas.org to register.
URL:https://n2ncarolinas.org/event/volunteer-information-session-2/2026-04-23/
LOCATION:South Carolina
CATEGORIES:Volunteer Events
END:VEVENT
BEGIN:VEVENT
DTSTART;TZID=America/New_York:20260428T150000
DTEND;TZID=America/New_York:20260428T160000
DTSTAMP:20260422T043912
CREATED:20241126T143731Z
LAST-MODIFIED:20250207T180242Z
UID:10000071-1777388400-1777392000@n2ncarolinas.org
SUMMARY:Volunteer Information Session
DESCRIPTION:Email alissa.wallace@n2ncarolinas.org to register.
URL:https://n2ncarolinas.org/event/volunteer-information-session/2026-04-28/
LOCATION:South Carolina
CATEGORIES:Volunteer Events
END:VEVENT
BEGIN:VEVENT
DTSTART;TZID=America/New_York:20260430T120000
DTEND;TZID=America/New_York:20260430T130000
DTSTAMP:20260422T043912
CREATED:20241126T143821Z
LAST-MODIFIED:20250311T132038Z
UID:10000150-1777550400-1777554000@n2ncarolinas.org
SUMMARY:Volunteer Information Session
DESCRIPTION:Email alissa.wallace@n2ncarolinas.org to register.
URL:https://n2ncarolinas.org/event/volunteer-information-session-2/2026-04-30/
LOCATION:South Carolina
CATEGORIES:Volunteer Events
END:VEVENT
BEGIN:VEVENT
DTSTART;TZID=America/New_York:20260505T150000
DTEND;TZID=America/New_York:20260505T160000
DTSTAMP:20260422T043912
CREATED:20241126T143731Z
LAST-MODIFIED:20250207T180242Z
UID:10000072-1777993200-1777996800@n2ncarolinas.org
SUMMARY:Volunteer Information Session
DESCRIPTION:Email alissa.wallace@n2ncarolinas.org to register.
URL:https://n2ncarolinas.org/event/volunteer-information-session/2026-05-05/
LOCATION:South Carolina
CATEGORIES:Volunteer Events
END:VEVENT
BEGIN:VEVENT
DTSTART;TZID=America/New_York:20260507T120000
DTEND;TZID=America/New_York:20260507T130000
DTSTAMP:20260422T043912
CREATED:20241126T143821Z
LAST-MODIFIED:20250311T132038Z
UID:10000151-1778155200-1778158800@n2ncarolinas.org
SUMMARY:Volunteer Information Session
DESCRIPTION:Email alissa.wallace@n2ncarolinas.org to register.
URL:https://n2ncarolinas.org/event/volunteer-information-session-2/2026-05-07/
LOCATION:South Carolina
CATEGORIES:Volunteer Events
END:VEVENT
BEGIN:VEVENT
DTSTART;TZID=America/New_York:20260512T150000
DTEND;TZID=America/New_York:20260512T160000
DTSTAMP:20260422T043912
CREATED:20241126T143731Z
LAST-MODIFIED:20250207T180242Z
UID:10000073-1778598000-1778601600@n2ncarolinas.org
SUMMARY:Volunteer Information Session
DESCRIPTION:Email alissa.wallace@n2ncarolinas.org to register.
URL:https://n2ncarolinas.org/event/volunteer-information-session/2026-05-12/
LOCATION:South Carolina
CATEGORIES:Volunteer Events
END:VEVENT
BEGIN:VEVENT
DTSTART;TZID=America/New_York:20260514T120000
DTEND;TZID=America/New_York:20260514T130000
DTSTAMP:20260422T043912
CREATED:20241126T143821Z
LAST-MODIFIED:20250311T132038Z
UID:10000152-1778760000-1778763600@n2ncarolinas.org
SUMMARY:Volunteer Information Session
DESCRIPTION:Email alissa.wallace@n2ncarolinas.org to register.
URL:https://n2ncarolinas.org/event/volunteer-information-session-2/2026-05-14/
LOCATION:South Carolina
CATEGORIES:Volunteer Events
END:VEVENT
BEGIN:VEVENT
DTSTART;TZID=America/New_York:20260519T150000
DTEND;TZID=America/New_York:20260519T160000
DTSTAMP:20260422T043912
CREATED:20241126T143731Z
LAST-MODIFIED:20250207T180242Z
UID:10000074-1779202800-1779206400@n2ncarolinas.org
SUMMARY:Volunteer Information Session
DESCRIPTION:Email alissa.wallace@n2ncarolinas.org to register.
URL:https://n2ncarolinas.org/event/volunteer-information-session/2026-05-19/
LOCATION:South Carolina
CATEGORIES:Volunteer Events
END:VEVENT
BEGIN:VEVENT
DTSTART;TZID=America/New_York:20260521T120000
DTEND;TZID=America/New_York:20260521T130000
DTSTAMP:20260422T043912
CREATED:20241126T143821Z
LAST-MODIFIED:20250311T132038Z
UID:10000153-1779364800-1779368400@n2ncarolinas.org
SUMMARY:Volunteer Information Session
DESCRIPTION:Email alissa.wallace@n2ncarolinas.org to register.
URL:https://n2ncarolinas.org/event/volunteer-information-session-2/2026-05-21/
LOCATION:South Carolina
CATEGORIES:Volunteer Events
END:VEVENT
BEGIN:VEVENT
DTSTART;TZID=America/New_York:20260526T150000
DTEND;TZID=America/New_York:20260526T160000
DTSTAMP:20260422T043912
CREATED:20241126T143731Z
LAST-MODIFIED:20250207T180242Z
UID:10000075-1779807600-1779811200@n2ncarolinas.org
SUMMARY:Volunteer Information Session
DESCRIPTION:Email alissa.wallace@n2ncarolinas.org to register.
URL:https://n2ncarolinas.org/event/volunteer-information-session/2026-05-26/
LOCATION:South Carolina
CATEGORIES:Volunteer Events
END:VEVENT
BEGIN:VEVENT
DTSTART;TZID=America/New_York:20260528T120000
DTEND;TZID=America/New_York:20260528T130000
DTSTAMP:20260422T043912
CREATED:20241126T143821Z
LAST-MODIFIED:20250311T132038Z
UID:10000154-1779969600-1779973200@n2ncarolinas.org
SUMMARY:Volunteer Information Session
DESCRIPTION:Email alissa.wallace@n2ncarolinas.org to register.
URL:https://n2ncarolinas.org/event/volunteer-information-session-2/2026-05-28/
LOCATION:South Carolina
CATEGORIES:Volunteer Events
END:VEVENT
BEGIN:VEVENT
DTSTART;TZID=America/New_York:20260602T150000
DTEND;TZID=America/New_York:20260602T160000
DTSTAMP:20260422T043912
CREATED:20241126T143731Z
LAST-MODIFIED:20250207T180242Z
UID:10000076-1780412400-1780416000@n2ncarolinas.org
SUMMARY:Volunteer Information Session
DESCRIPTION:Email alissa.wallace@n2ncarolinas.org to register.
URL:https://n2ncarolinas.org/event/volunteer-information-session/2026-06-02/
LOCATION:South Carolina
CATEGORIES:Volunteer Events
END:VEVENT
BEGIN:VEVENT
DTSTART;TZID=America/New_York:20260604T120000
DTEND;TZID=America/New_York:20260604T130000
DTSTAMP:20260422T043912
CREATED:20241126T143821Z
LAST-MODIFIED:20250311T132038Z
UID:10000155-1780574400-1780578000@n2ncarolinas.org
SUMMARY:Volunteer Information Session
DESCRIPTION:Email alissa.wallace@n2ncarolinas.org to register.
URL:https://n2ncarolinas.org/event/volunteer-information-session-2/2026-06-04/
LOCATION:South Carolina
CATEGORIES:Volunteer Events
END:VEVENT
BEGIN:VEVENT
DTSTART;TZID=America/New_York:20260609T150000
DTEND;TZID=America/New_York:20260609T160000
DTSTAMP:20260422T043912
CREATED:20241126T143731Z
LAST-MODIFIED:20250207T180242Z
UID:10000077-1781017200-1781020800@n2ncarolinas.org
SUMMARY:Volunteer Information Session
DESCRIPTION:Email alissa.wallace@n2ncarolinas.org to register.
URL:https://n2ncarolinas.org/event/volunteer-information-session/2026-06-09/
LOCATION:South Carolina
CATEGORIES:Volunteer Events
END:VEVENT
BEGIN:VEVENT
DTSTART;TZID=America/New_York:20260611T120000
DTEND;TZID=America/New_York:20260611T130000
DTSTAMP:20260422T043912
CREATED:20241126T143821Z
LAST-MODIFIED:20250311T132038Z
UID:10000156-1781179200-1781182800@n2ncarolinas.org
SUMMARY:Volunteer Information Session
DESCRIPTION:Email alissa.wallace@n2ncarolinas.org to register.
URL:https://n2ncarolinas.org/event/volunteer-information-session-2/2026-06-11/
LOCATION:South Carolina
CATEGORIES:Volunteer Events
END:VEVENT
BEGIN:VEVENT
DTSTART;TZID=America/New_York:20260616T150000
DTEND;TZID=America/New_York:20260616T160000
DTSTAMP:20260422T043912
CREATED:20241126T143731Z
LAST-MODIFIED:20250207T180242Z
UID:10000078-1781622000-1781625600@n2ncarolinas.org
SUMMARY:Volunteer Information Session
DESCRIPTION:Email alissa.wallace@n2ncarolinas.org to register.
URL:https://n2ncarolinas.org/event/volunteer-information-session/2026-06-16/
LOCATION:South Carolina
CATEGORIES:Volunteer Events
END:VEVENT
BEGIN:VEVENT
DTSTART;TZID=America/New_York:20260618T120000
DTEND;TZID=America/New_York:20260618T130000
DTSTAMP:20260422T043912
CREATED:20241126T143821Z
LAST-MODIFIED:20250311T132038Z
UID:10000157-1781784000-1781787600@n2ncarolinas.org
SUMMARY:Volunteer Information Session
DESCRIPTION:Email alissa.wallace@n2ncarolinas.org to register.
URL:https://n2ncarolinas.org/event/volunteer-information-session-2/2026-06-18/
LOCATION:South Carolina
CATEGORIES:Volunteer Events
END:VEVENT
BEGIN:VEVENT
DTSTART;TZID=America/New_York:20260623T150000
DTEND;TZID=America/New_York:20260623T160000
DTSTAMP:20260422T043912
CREATED:20241126T143731Z
LAST-MODIFIED:20250207T180242Z
UID:10000079-1782226800-1782230400@n2ncarolinas.org
SUMMARY:Volunteer Information Session
DESCRIPTION:Email alissa.wallace@n2ncarolinas.org to register.
URL:https://n2ncarolinas.org/event/volunteer-information-session/2026-06-23/
LOCATION:South Carolina
CATEGORIES:Volunteer Events
END:VEVENT
BEGIN:VEVENT
DTSTART;TZID=America/New_York:20260625T120000
DTEND;TZID=America/New_York:20260625T130000
DTSTAMP:20260422T043912
CREATED:20241126T143821Z
LAST-MODIFIED:20250311T132038Z
UID:10000158-1782388800-1782392400@n2ncarolinas.org
SUMMARY:Volunteer Information Session
DESCRIPTION:Email alissa.wallace@n2ncarolinas.org to register.
URL:https://n2ncarolinas.org/event/volunteer-information-session-2/2026-06-25/
LOCATION:South Carolina
CATEGORIES:Volunteer Events
END:VEVENT
BEGIN:VEVENT
DTSTART;TZID=America/New_York:20260630T150000
DTEND;TZID=America/New_York:20260630T160000
DTSTAMP:20260422T043912
CREATED:20241126T143731Z
LAST-MODIFIED:20250207T180242Z
UID:10000080-1782831600-1782835200@n2ncarolinas.org
SUMMARY:Volunteer Information Session
DESCRIPTION:Email alissa.wallace@n2ncarolinas.org to register.
URL:https://n2ncarolinas.org/event/volunteer-information-session/2026-06-30/
LOCATION:South Carolina
CATEGORIES:Volunteer Events
END:VEVENT
END:VCALENDAR